Workbook

Sheet Rekap Omzet Januari
A1: Bulan | B1: Januari 2026 | F1: Omzet Bulanan | G1: =SUM(G4:G1048576) -> 0 | H1: Cek Rekap Omzet Bulanan Anda!
A3: No | B3: Tanggal | C3: Nama Pembeli | D3: Nama Produk | E3: Jumlah | F3: Harga Satuan | G3: Total
A4: 1 | G4: =E4*F4 -> 0
A5: =A4+1 -> 2 | G5: =E5*F5 -> 0
A6: =A5+1 -> 3 | G6: =E6*F6 -> 0
A7: =A6+1 -> 4 | G7: =E7*F7 -> 0
A8: =A7+1 -> 5 | G8: =E8*F8 -> 0
A9: =A8+1 -> 6 | G9: =E9*F9 -> 0
A10: =A9+1 -> 7 | G10: =E10*F10 -> 0
A11: =A10+1 -> 8 | G11: =E11*F11 -> 0
A12: =A11+1 -> 9 | G12: =E12*F12 -> 0
A13: =A12+1 -> 10 | G13: =E13*F13 -> 0
A14: =A13+1 -> 11 | G14: =E14*F14 -> 0
A15: =A14+1 -> 12 | G15: =E15*F15 -> 0
A16: =A15+1 -> 13 | G16: =E16*F16 -> 0
... A103: =A102+1 -> 100 | G103: =E103*F103 -> 0

Sheet Rekap Omzet Februari
A1: Bulan | B1: Februari 2026 | F1: Omzet Bulanan | G1: =SUM(G4:G1048576) -> 0 | H1: Cek Rekap Omzet Bulanan Anda!
A3: No | B3: Tanggal | C3: Nama Pembeli | D3: Nama Produk | E3: Jumlah | F3: Harga Satuan | G3: Total
A4: 1 | G4: =E4*F4 -> 0
A5: =A4+1 -> 2 | G5: =E5*F5 -> 0
A6: =A5+1 -> 3 | G6: =E6*F6 -> 0
A7: =A6+1 -> 4 | G7: =E7*F7 -> 0
A8: =A7+1 -> 5 | G8: =E8*F8 -> 0
A9: =A8+1 -> 6 | G9: =E9*F9 -> 0
A10: =A9+1 -> 7 | G10: =E10*F10 -> 0
A11: =A10+1 -> 8 | G11: =E11*F11 -> 0
A12: =A11+1 -> 9 | G12: =E12*F12 -> 0
A13: =A12+1 -> 10 | G13: =E13*F13 -> 0
A14: =A13+1 -> 11 | G14: =E14*F14 -> 0
A15: =A14+1 -> 12 | G15: =E15*F15 -> 0
A16: =A15+1 -> 13 | G16: =E16*F16 -> 0
... A103: =A102+1 -> 100 | G103: =E103*F103 -> 0

Sheet Rekap Omzet Maret
A1: Bulan | B1: Maret 2026 | F1: Omzet Bulanan | G1: =SUM(G4:G1048576) -> 0 | H1: Cek Rekap Omzet Bulanan Anda!
A3: No | B3: Tanggal | C3: Nama Pembeli | D3: Nama Produk | E3: Jumlah | F3: Harga Satuan | G3: Total
A4: 1 | G4: =E4*F4 -> 0
A5: =A4+1 -> 2 | G5: =E5*F5 -> 0
A6: =A5+1 -> 3 | G6: =E6*F6 -> 0
A7: =A6+1 -> 4 | G7: =E7*F7 -> 0
A8: =A7+1 -> 5 | G8: =E8*F8 -> 0
A9: =A8+1 -> 6 | G9: =E9*F9 -> 0
A10: =A9+1 -> 7 | G10: =E10*F10 -> 0
A11: =A10+1 -> 8 | G11: =E11*F11 -> 0
A12: =A11+1 -> 9 | G12: =E12*F12 -> 0
A13: =A12+1 -> 10 | G13: =E13*F13 -> 0
A14: =A13+1 -> 11 | G14: =E14*F14 -> 0
A15: =A14+1 -> 12 | G15: =E15*F15 -> 0
A16: =A15+1 -> 13 | G16: =E16*F16 -> 0
... A103: =A102+1 -> 100 | G103: =E103*F103 -> 0

Sheet Rekap Omzet April
A1: Bulan | B1: April 2026 | F1: Omzet Bulanan | G1: =SUM(G4:G1048576) -> 0 | H1: Cek Rekap Omzet Bulanan Anda!
A3: No | B3: Tanggal | C3: Nama Pembeli | D3: Nama Produk | E3: Jumlah | F3: Harga Satuan | G3: Total
A4: 1 | G4: =E4*F4 -> 0
A5: =A4+1 -> 2 | G5: =E5*F5 -> 0
A6: =A5+1 -> 3 | G6: =E6*F6 -> 0
A7: =A6+1 -> 4 | G7: =E7*F7 -> 0
A8: =A7+1 -> 5 | G8: =E8*F8 -> 0
A9: =A8+1 -> 6 | G9: =E9*F9 -> 0
A10: =A9+1 -> 7 | G10: =E10*F10 -> 0
A11: =A10+1 -> 8 | G11: =E11*F11 -> 0
A12: =A11+1 -> 9 | G12: =E12*F12 -> 0
A13: =A12+1 -> 10 | G13: =E13*F13 -> 0
A14: =A13+1 -> 11 | G14: =E14*F14 -> 0
A15: =A14+1 -> 12 | G15: =E15*F15 -> 0
A16: =A15+1 -> 13 | G16: =E16*F16 -> 0
... A103: =A102+1 -> 100 | G103: =E103*F103 -> 0

Sheet Rekap Omzet Mei
A1: Bulan | B1: Mei 2026 | F1: Omzet Bulanan | G1: =SUM(G4:G1048576) -> 0 | H1: Cek Rekap Omzet Bulanan Anda!
A3: No | B3: Tanggal | C3: Nama Pembeli | D3: Nama Produk | E3: Jumlah | F3: Harga Satuan | G3: Total
A4: 1 | G4: =E4*F4 -> 0
A5: =A4+1 -> 2 | G5: =E5*F5 -> 0
A6: =A5+1 -> 3 | G6: =E6*F6 -> 0
A7: =A6+1 -> 4 | G7: =E7*F7 -> 0
A8: =A7+1 -> 5 | G8: =E8*F8 -> 0
A9: =A8+1 -> 6 | G9: =E9*F9 -> 0
A10: =A9+1 -> 7 | G10: =E10*F10 -> 0
A11: =A10+1 -> 8 | G11: =E11*F11 -> 0
A12: =A11+1 -> 9 | G12: =E12*F12 -> 0
A13: =A12+1 -> 10 | G13: =E13*F13 -> 0
A14: =A13+1 -> 11 | G14: =E14*F14 -> 0
A15: =A14+1 -> 12 | G15: =E15*F15 -> 0
A16: =A15+1 -> 13 | G16: =E16*F16 -> 0
... A103: =A102+1 -> 100 | G103: =E103*F103 -> 0

Sheet Rekap Omzet Juni
A1: Bulan | B1: Juni 2026 | F1: Omzet Bulanan | G1: =SUM(G4:G1048576) -> 0 | H1: Cek Rekap Omzet Bulanan Anda!
A3: No | B3: Tanggal | C3: Nama Pembeli | D3: Nama Produk | E3: Jumlah | F3: Harga Satuan | G3: Total
A4: 1 | G4: =E4*F4 -> 0
A5: =A4+1 -> 2 | G5: =E5*F5 -> 0
A6: =A5+1 -> 3 | G6: =E6*F6 -> 0
A7: =A6+1 -> 4 | G7: =E7*F7 -> 0
A8: =A7+1 -> 5 | G8: =E8*F8 -> 0
A9: =A8+1 -> 6 | G9: =E9*F9 -> 0
A10: =A9+1 -> 7 | G10: =E10*F10 -> 0
A11: =A10+1 -> 8 | G11: =E11*F11 -> 0
A12: =A11+1 -> 9 | G12: =E12*F12 -> 0
A13: =A12+1 -> 10 | G13: =E13*F13 -> 0
A14: =A13+1 -> 11 | G14: =E14*F14 -> 0
A15: =A14+1 -> 12 | G15: =E15*F15 -> 0
A16: =A15+1 -> 13 | G16: =E16*F16 -> 0
... A103: =A102+1 -> 100 | G103: =E103*F103 -> 0

Sheet Rekap Omzet Juli
A1: Bulan | B1: Juli 2026 | F1: Omzet Bulanan | G1: =SUM(G4:G1048576) -> 0 | H1: Cek Rekap Omzet Bulanan Anda!
A3: No | B3: Tanggal | C3: Nama Pembeli | D3: Nama Produk | E3: Jumlah | F3: Harga Satuan | G3: Total
A4: 1 | G4: =E4*F4 -> 0
A5: =A4+1 -> 2 | G5: =E5*F5 -> 0
A6: =A5+1 -> 3 | G6: =E6*F6 -> 0
A7: =A6+1 -> 4 | G7: =E7*F7 -> 0
A8: =A7+1 -> 5 | G8: =E8*F8 -> 0
A9: =A8+1 -> 6 | G9: =E9*F9 -> 0
A10: =A9+1 -> 7 | G10: =E10*F10 -> 0
A11: =A10+1 -> 8 | G11: =E11*F11 -> 0
A12: =A11+1 -> 9 | G12: =E12*F12 -> 0
A13: =A12+1 -> 10 | G13: =E13*F13 -> 0
A14: =A13+1 -> 11 | G14: =E14*F14 -> 0
A15: =A14+1 -> 12 | G15: =E15*F15 -> 0
A16: =A15+1 -> 13 | G16: =E16*F16 -> 0
... A103: =A102+1 -> 100 | G103: =E103*F103 -> 0

Sheet Rekap Omzet Agustus
A1: Bulan | B1: Agustus 2026 | F1: Omzet Bulanan | G1: =SUM(G4:G1048576) -> 0 | H1: Cek Rekap Omzet Bulanan Anda!
A3: No | B3: Tanggal | C3: Nama Pembeli | D3: Nama Produk | E3: Jumlah | F3: Harga Satuan | G3: Total
A4: 1 | G4: =E4*F4 -> 0
A5: =A4+1 -> 2 | G5: =E5*F5 -> 0
A6: =A5+1 -> 3 | G6: =E6*F6 -> 0
A7: =A6+1 -> 4 | G7: =E7*F7 -> 0
A8: =A7+1 -> 5 | G8: =E8*F8 -> 0
A9: =A8+1 -> 6 | G9: =E9*F9 -> 0
A10: =A9+1 -> 7 | G10: =E10*F10 -> 0
A11: =A10+1 -> 8 | G11: =E11*F11 -> 0
A12: =A11+1 -> 9 | G12: =E12*F12 -> 0
A13: =A12+1 -> 10 | G13: =E13*F13 -> 0
A14: =A13+1 -> 11 | G14: =E14*F14 -> 0
A15: =A14+1 -> 12 | G15: =E15*F15 -> 0
A16: =A15+1 -> 13 | G16: =E16*F16 -> 0
... A103: =A102+1 -> 100 | G103: =E103*F103 -> 0

Sheet Rekap Omzet September
A1: Bulan | B1: September 2026 | F1: Omzet Bulanan | G1: =SUM(G4:G1048576) -> 0 | H1: Cek Rekap Omzet Bulanan Anda!
A3: No | B3: Tanggal | C3: Nama Pembeli | D3: Nama Produk | E3: Jumlah | F3: Harga Satuan | G3: Total
A4: 1 | G4: =E4*F4 -> 0
A5: =A4+1 -> 2 | G5: =E5*F5 -> 0
A6: =A5+1 -> 3 | G6: =E6*F6 -> 0
A7: =A6+1 -> 4 | G7: =E7*F7 -> 0
A8: =A7+1 -> 5 | G8: =E8*F8 -> 0
A9: =A8+1 -> 6 | G9: =E9*F9 -> 0
A10: =A9+1 -> 7 | G10: =E10*F10 -> 0
A11: =A10+1 -> 8 | G11: =E11*F11 -> 0
A12: =A11+1 -> 9 | G12: =E12*F12 -> 0
A13: =A12+1 -> 10 | G13: =E13*F13 -> 0
A14: =A13+1 -> 11 | G14: =E14*F14 -> 0
A15: =A14+1 -> 12 | G15: =E15*F15 -> 0
A16: =A15+1 -> 13 | G16: =E16*F16 -> 0
... A103: =A102+1 -> 100 | G103: =E103*F103 -> 0

Sheet Rekap Omzet Oktober
A1: Bulan | B1: Oktober 2026 | F1: Omzet Bulanan | G1: =SUM(G4:G1048576) -> 0 | H1: Cek Rekap Omzet Bulanan Anda!
A3: No | B3: Tanggal | C3: Nama Pembeli | D3: Nama Produk | E3: Jumlah | F3: Harga Satuan | G3: Total
A4: 1 | G4: =E4*F4 -> 0
A5: =A4+1 -> 2 | G5: =E5*F5 -> 0
A6: =A5+1 -> 3 | G6: =E6*F6 -> 0
A7: =A6+1 -> 4 | G7: =E7*F7 -> 0
A8: =A7+1 -> 5 | G8: =E8*F8 -> 0
A9: =A8+1 -> 6 | G9: =E9*F9 -> 0
A10: =A9+1 -> 7 | G10: =E10*F10 -> 0
A11: =A10+1 -> 8 | G11: =E11*F11 -> 0
A12: =A11+1 -> 9 | G12: =E12*F12 -> 0
A13: =A12+1 -> 10 | G13: =E13*F13 -> 0
A14: =A13+1 -> 11 | G14: =E14*F14 -> 0
A15: =A14+1 -> 12 | G15: =E15*F15 -> 0
A16: =A15+1 -> 13 | G16: =E16*F16 -> 0
... A103: =A102+1 -> 100 | G103: =E103*F103 -> 0

Sheet Rekap Omzet November
A1: Bulan | B1: November 2026 | F1: Omzet Bulanan | G1: =SUM(G4:G1048576) -> 0 | H1: Cek Rekap Omzet Bulanan Anda!
A3: No | B3: Tanggal | C3: Nama Pembeli | D3: Nama Produk | E3: Jumlah | F3: Harga Satuan | G3: Total
A4: 1 | G4: =E4*F4 -> 0
A5: =A4+1 -> 2 | G5: =E5*F5 -> 0
A6: =A5+1 -> 3 | G6: =E6*F6 -> 0
A7: =A6+1 -> 4 | G7: =E7*F7 -> 0
A8: =A7+1 -> 5 | G8: =E8*F8 -> 0
A9: =A8+1 -> 6 | G9: =E9*F9 -> 0
A10: =A9+1 -> 7 | G10: =E10*F10 -> 0
A11: =A10+1 -> 8 | G11: =E11*F11 -> 0
A12: =A11+1 -> 9 | G12: =E12*F12 -> 0
A13: =A12+1 -> 10 | G13: =E13*F13 -> 0
A14: =A13+1 -> 11 | G14: =E14*F14 -> 0
A15: =A14+1 -> 12 | G15: =E15*F15 -> 0
A16: =A15+1 -> 13 | G16: =E16*F16 -> 0
... A103: =A102+1 -> 100 | G103: =E103*F103 -> 0

Sheet Rekap Omzet Desember
A1: Bulan | B1: Desember 2026 | F1: Omzet Bulanan | G1: =SUM(G4:G1048576) -> 0 | H1: Cek Rekap Omzet Bulanan Anda!
A3: No | B3: Tanggal | C3: Nama Pembeli | D3: Nama Produk | E3: Jumlah | F3: Harga Satuan | G3: Total
A4: 1 | G4: =E4*F4 -> 0
A5: =A4+1 -> 2 | G5: =E5*F5 -> 0
A6: =A5+1 -> 3 | G6: =E6*F6 -> 0
A7: =A6+1 -> 4 | G7: =E7*F7 -> 0
A8: =A7+1 -> 5 | G8: =E8*F8 -> 0
A9: =A8+1 -> 6 | G9: =E9*F9 -> 0
A10: =A9+1 -> 7 | G10: =E10*F10 -> 0
A11: =A10+1 -> 8 | G11: =E11*F11 -> 0
A12: =A11+1 -> 9 | G12: =E12*F12 -> 0
A13: =A12+1 -> 10 | G13: =E13*F13 -> 0
A14: =A13+1 -> 11 | G14: =E14*F14 -> 0
A15: =A14+1 -> 12 | G15: =E15*F15 -> 0
A16: =A15+1 -> 13 | G16: =E16*F16 -> 0
... A103: =A102+1 -> 100 | G103: =E103*F103 -> 0

Sheet Rekap Omzet Bulanan
A1: Bulan | B1: Omzet Bulanan | C1: Omzet Kumulatif | D1: Omzet Bulanan Kena Pajak | E1: PPh Final UMKM
A2: Januari 2026 | B2: ='Rekap Omzet Januari'!G1 -> 0 | C2: =B2 -> 0 | D2: =MAX(0,MIN(B2,C2-500000000)) -> 0 | E2: =D2*0.5% -> 0
A3: Februari 2026 | B3: ='Rekap Omzet Februari'!G1 -> 0 | C3: =SUM(B2:B3) -> 0 | D3: =MAX(0,MIN(B3,C3-500000000)) -> 0 | E3: =D3*0.5% -> 0
A4: Maret 2026 | B4: ='Rekap Omzet Maret'!G1 -> 0 | C4: =SUM(B2:B4) -> 0 | D4: =MAX(0,MIN(B4,C4-500000000)) -> 0 | E4: =D4*0.5% -> 0
A5: April 2026 | B5: ='Rekap Omzet April'!G1 -> 0 | C5: =SUM(B2:B5) -> 0 | D5: =MAX(0,MIN(B5,C5-500000000)) -> 0 | E5: =D5*0.5% -> 0
A6: Mei 2026 | B6: ='Rekap Omzet Mei'!G1 -> 0 | C6: =SUM(B2:B6) -> 0 | D6: =MAX(0,MIN(B6,C6-500000000)) -> 0 | E6: =D6*0.5% -> 0
A7: Juni 2026 | B7: ='Rekap Omzet Juni'!G1 -> 0 | C7: =SUM(B2:B7) -> 0 | D7: =MAX(0,MIN(B7,C7-500000000)) -> 0 | E7: =D7*0.5% -> 0
A8: Juli 2026 | B8: ='Rekap Omzet Juli'!G1 -> 0 | C8: =SUM(B2:B8) -> 0 | D8: =MAX(0,MIN(B8,C8-500000000)) -> 0 | E8: =D8*0.5% -> 0
A9: Agustus 2026 | B9: ='Rekap Omzet Agustus'!G1 -> 0 | C9: =SUM(B2:B9) -> 0 | D9: =MAX(0,MIN(B9,C9-500000000)) -> 0 | E9: =D9*0.5% -> 0
A10: September 2026 | B10: ='Rekap Omzet September'!G1 -> 0 | C10: =SUM(B2:B10) -> 0 | D10: =MAX(0,MIN(B10,C10-500000000)) -> 0 | E10: =D10*0.5% -> 0
A11: Oktober 2026 | B11: ='Rekap Omzet Oktober'!G1 -> 0 | C11: =SUM(B2:B11) -> 0 | D11: =MAX(0,MIN(B11,C11-500000000)) -> 0 | E11: =D11*0.5% -> 0
A12: November 2026 | B12: ='Rekap Omzet November'!G1 -> 0 | C12: =SUM(B2:B12) -> 0 | D12: =MAX(0,MIN(B12,C12-500000000)) -> 0 | E12: =D12*0.5% -> 0
A13: Desember 2026 | B13: ='Rekap Omzet Desember'!G1 -> 0 | C13: =SUM(B2:B13) -> 0 | D13: =MAX(0,MIN(B13,C13-500000000)) -> 0 | E13: =D13*0.5% -> 0
A14: Total (dalam Rp) | B14: =SUM(B2:B13) -> 0 | D14: =SUM(D2:D13) -> 0 | E14: =SUM(E2:E13) -> 0
A16: Catatan: Begitu Total Omzet Bulanan (B14) melebihi Rp 500 juta dan berwarna merah, Omzet Bulanan Kena Pajak (D) untuk bulan itu akan terisi otomatis.
A17: Contohnya kalau Total Omzet Bulanan (B14) Rp 504 juta hingga Agustus 2026, Omzet Bulanan Kena Pajak (D9) akan terisi Rp 4 juta.
